BEGIN:VCALENDAR
VERSION:2.0
PRODID:SchoolNow
CALSCALE:GREGORIAN
BEGIN:VEVENT
UID:5d6ff67a-253c-11f0-a512-0a58a9feac02
DTSTAMP:20251216T154516Z
SUMMARY:Boys Volleyball Game
LOCATION:Home (Competition Gym)
URL;VALUE=URI:https://www.dg58.org/he/calendar/8034394/boys-volleyball-game
DTSTART:20260408T211500Z
DTEND:20260408T221500Z
END:VEVENT
END:VCALENDAR
