BEGIN:VCALENDAR
VERSION:2.0
PRODID:SchoolNow
CALSCALE:GREGORIAN
BEGIN:VEVENT
UID:5d6ff40e-253c-11f0-9eef-0a58a9feac02
DTSTAMP:20251216T154516Z
SUMMARY:Boys Soccer Tournament
LOCATION:TBD
URL;VALUE=URI:https://www.dg58.org/he/calendar/8034392/boys-soccer-tourname
 nt
DTSTART:20260514T211500Z
DTEND:20260514T223000Z
END:VEVENT
END:VCALENDAR
