BEGIN:VCALENDAR
VERSION:2.0
PRODID:SchoolNow
CALSCALE:GREGORIAN
BEGIN:VEVENT
UID:5d2965fc-253c-11f0-b2f3-0a58a9feac02
DTSTAMP:20251216T154516Z
SUMMARY:Boys Basketball Game
LOCATION:Home (Competition Gym)
URL;VALUE=URI:https://www.dg58.org/he/calendar/8034389/boys-basketball-game
DTSTART:20251211T221500Z
DTEND:20251212T001500Z
END:VEVENT
END:VCALENDAR
