BEGIN:VCALENDAR
VERSION:2.0
PRODID:SchoolNow
CALSCALE:GREGORIAN
BEGIN:VEVENT
UID:5d296516-253c-11f0-ba4f-0a58a9feac02
DTSTAMP:20251216T154516Z
SUMMARY:Soccer Game
LOCATION:Home (Field)
URL;VALUE=URI:https://www.dg58.org/he/calendar/8034388/soccer-game
DTSTART:20260413T211500Z
DTEND:20260413T231500Z
END:VEVENT
END:VCALENDAR
