BEGIN:VCALENDAR
VERSION:2.0
PRODID:SchoolNow
CALSCALE:GREGORIAN
BEGIN:VEVENT
UID:5d296430-253c-11f0-ba28-0a58a9feac02
DTSTAMP:20251216T154516Z
SUMMARY:Girls Volleyball Game
LOCATION:Burr Ridge
URL;VALUE=URI:https://www.dg58.org/he/calendar/8034387/girls-volleyball-gam
 e
DTSTART:20260205T221500Z
DTEND:20260206T001500Z
END:VEVENT
END:VCALENDAR
