BEGIN:VCALENDAR
VERSION:2.0
PRODID:SchoolNow
CALSCALE:GREGORIAN
BEGIN:VEVENT
UID:5d296264-253c-11f0-b236-0a58a9feac02
DTSTAMP:20251216T154516Z
SUMMARY:Wrestling Meet
LOCATION:Gower
URL;VALUE=URI:https://www.dg58.org/he/calendar/8034385/wrestling-meet
DTSTART:20260126T221500Z
DTEND:20260127T001500Z
END:VEVENT
END:VCALENDAR
