BEGIN:VCALENDAR
VERSION:2.0
PRODID:SchoolNow
CALSCALE:GREGORIAN
BEGIN:VEVENT
UID:5d29608e-253c-11f0-befa-0a58a9feac02
DTSTAMP:20251216T154516Z
SUMMARY:Cross Country Meet
LOCATION:Westmont
URL;VALUE=URI:https://www.dg58.org/he/calendar/8034383/cross-country-meet
DTSTART:20250916T211500Z
DTEND:20250916T231500Z
END:VEVENT
END:VCALENDAR
