BEGIN:VCALENDAR
VERSION:2.0
PRODID:SchoolNow
CALSCALE:GREGORIAN
BEGIN:VEVENT
UID:5d295eb8-253c-11f0-aa7a-0a58a9feac02
DTSTAMP:20251216T154516Z
SUMMARY:Cross Country Conference Meet
LOCATION:TBD
URL;VALUE=URI:https://www.dg58.org/he/calendar/8034381/cross-country-confer
 ence-meet
DTSTART:20251007T210000Z
DTEND:20251007T231500Z
END:VEVENT
END:VCALENDAR
