BEGIN:VCALENDAR
VERSION:2.0
PRODID:SchoolNow
CALSCALE:GREGORIAN
BEGIN:VEVENT
UID:5d295760-253c-11f0-aad4-0a58a9feac02
DTSTAMP:20251216T154516Z
SUMMARY:Varsity Girls Volleyball Tournament
LOCATION:TBD
URL;VALUE=URI:https://www.dg58.org/he/calendar/8034375/varsity-girls-volley
 ball-tournament
DTSTART:20260313T211500Z
DTEND:20260313T221500Z
END:VEVENT
END:VCALENDAR
