BEGIN:VCALENDAR
VERSION:2.0
PRODID:SchoolNow
CALSCALE:GREGORIAN
BEGIN:VEVENT
UID:5d29558a-253c-11f0-a579-0a58a9feac02
DTSTAMP:20251216T154516Z
SUMMARY:Boys Volleyball Game
LOCATION:Home (Competition Gym)
URL;VALUE=URI:https://www.dg58.org/he/calendar/8034373/boys-volleyball-game
DTSTART:20260504T211500Z
DTEND:20260504T221500Z
END:VEVENT
END:VCALENDAR
