BEGIN:VCALENDAR
VERSION:2.0
PRODID:SchoolNow
CALSCALE:GREGORIAN
BEGIN:VEVENT
UID:5d29547c-253c-11f0-81e7-0a58a9feac02
DTSTAMP:20251216T154516Z
SUMMARY:Boys Volleyball Tournament
LOCATION:TBD
URL;VALUE=URI:https://www.dg58.org/he/calendar/8034372/boys-volleyball-tour
 nament
DTSTART:20260512T211500Z
DTEND:20260512T221500Z
END:VEVENT
END:VCALENDAR
