BEGIN:VCALENDAR
VERSION:2.0
PRODID:SchoolNow
CALSCALE:GREGORIAN
BEGIN:VEVENT
UID:5d29538c-253c-11f0-9d92-0a58a9feac02
DTSTAMP:20251216T154516Z
SUMMARY:Girls Volleyball Game
LOCATION:Lisle
URL;VALUE=URI:https://www.dg58.org/he/calendar/8034371/girls-volleyball-gam
 e
DTSTART:20260225T221500Z
DTEND:20260226T001500Z
END:VEVENT
END:VCALENDAR
