BEGIN:VCALENDAR
VERSION:2.0
PRODID:SchoolNow
CALSCALE:GREGORIAN
BEGIN:VEVENT
UID:5d293dd4-253c-11f0-a7ad-0a58a9feac02
DTSTAMP:20251216T154516Z
SUMMARY:Wrestling Meet
LOCATION:Home (Competition Gym)
URL;VALUE=URI:https://www.dg58.org/he/calendar/8034359/wrestling-meet
DTSTART:20251216T221500Z
DTEND:20251217T001500Z
END:VEVENT
END:VCALENDAR
