BEGIN:VCALENDAR
VERSION:2.0
PRODID:SchoolNow
CALSCALE:GREGORIAN
BEGIN:VEVENT
UID:5d2913ea-253c-11f0-b8b6-0a58a9feac02
DTSTAMP:20251216T154516Z
SUMMARY:Varsity Girls Volleyball Tournament
LOCATION:TBD
URL;VALUE=URI:https://www.dg58.org/he/calendar/8034353/varsity-girls-volley
 ball-tournament
DTSTART:20260319T211500Z
DTEND:20260319T221500Z
END:VEVENT
END:VCALENDAR
