BEGIN:VCALENDAR
VERSION:2.0
PRODID:SchoolNow
CALSCALE:GREGORIAN
BEGIN:VEVENT
UID:5d2912fa-253c-11f0-909a-0a58a9feac02
DTSTAMP:20251216T154516Z
SUMMARY:Boys Volleyball Game
LOCATION:Cass
URL;VALUE=URI:https://www.dg58.org/he/calendar/8034352/boys-volleyball-game
DTSTART:20260414T211500Z
DTEND:20260414T221500Z
END:VEVENT
END:VCALENDAR
