BEGIN:VCALENDAR
VERSION:2.0
PRODID:SchoolNow
CALSCALE:GREGORIAN
BEGIN:VEVENT
UID:5d29112e-253c-11f0-94ec-0a58a9feac02
DTSTAMP:20251216T154516Z
SUMMARY:Scholastic Bowl Conference Tournament
LOCATION:Westview Hills
URL;VALUE=URI:https://www.dg58.org/he/calendar/8034350/scholastic-bowl-conf
 erence-tournament
DTSTART:20260423T211500Z
DTEND:20260423T231500Z
END:VEVENT
END:VCALENDAR
