BEGIN:VCALENDAR
VERSION:2.0
PRODID:SchoolNow
CALSCALE:GREGORIAN
BEGIN:VEVENT
UID:5d291048-253c-11f0-a664-0a58a9feac02
DTSTAMP:20251216T154516Z
SUMMARY:Chess Match
LOCATION:Home (Library)
URL;VALUE=URI:https://www.dg58.org/he/calendar/8034349/chess-match
DTSTART:20260219T221500Z
DTEND:20260219T233000Z
END:VEVENT
END:VCALENDAR
