BEGIN:VCALENDAR
VERSION:2.0
PRODID:SchoolNow
CALSCALE:GREGORIAN
BEGIN:VEVENT
UID:5d290f6c-253c-11f0-87c6-0a58a9feac02
DTSTAMP:20251216T154516Z
SUMMARY:Soccer Game
LOCATION:O'Neill
URL;VALUE=URI:https://www.dg58.org/he/calendar/8034348/soccer-game
DTSTART:20260507T211500Z
DTEND:20260507T231500Z
END:VEVENT
END:VCALENDAR
