BEGIN:VCALENDAR
VERSION:2.0
PRODID:SchoolNow
CALSCALE:GREGORIAN
BEGIN:VEVENT
UID:5d290918-253c-11f0-b4fb-0a58a9feac02
DTSTAMP:20251216T154516Z
SUMMARY:Scholastic Bowl Match
LOCATION:Westview Hills
URL;VALUE=URI:https://www.dg58.org/he/calendar/8034341/scholastic-bowl-matc
 h
DTSTART:20260326T211500Z
DTEND:20260326T223000Z
END:VEVENT
END:VCALENDAR
