BEGIN:VCALENDAR
VERSION:2.0
PRODID:SchoolNow
CALSCALE:GREGORIAN
BEGIN:VEVENT
UID:5d290832-253c-11f0-b75e-0a58a9feac02
DTSTAMP:20251216T154516Z
SUMMARY:Girls Volleyball Game
LOCATION:Butler
URL;VALUE=URI:https://www.dg58.org/he/calendar/8034340/girls-volleyball-gam
 e
DTSTART:20260218T221500Z
DTEND:20260219T001500Z
END:VEVENT
END:VCALENDAR
