BEGIN:VCALENDAR
VERSION:2.0
PRODID:SchoolNow
CALSCALE:GREGORIAN
BEGIN:VEVENT
UID:5d290666-253c-11f0-80ea-0a58a9feac02
DTSTAMP:20251216T154516Z
SUMMARY:Girls Basketball Game
LOCATION:O'Neill
URL;VALUE=URI:https://www.dg58.org/he/calendar/8034338/girls-basketball-gam
 e
DTSTART:20251016T211500Z
DTEND:20251016T231500Z
END:VEVENT
END:VCALENDAR
