BEGIN:VCALENDAR
VERSION:2.0
PRODID:SchoolNow
CALSCALE:GREGORIAN
BEGIN:VEVENT
UID:5d290576-253c-11f0-bd20-0a58a9feac02
DTSTAMP:20251216T154516Z
SUMMARY:Girls Volleyball Game
LOCATION:O'Neill
URL;VALUE=URI:https://www.dg58.org/he/calendar/8034337/girls-volleyball-gam
 e
DTSTART:20260211T221500Z
DTEND:20260212T001500Z
END:VEVENT
END:VCALENDAR
