BEGIN:VCALENDAR
VERSION:2.0
PRODID:SchoolNow
CALSCALE:GREGORIAN
BEGIN:VEVENT
UID:5d29049a-253c-11f0-a4e2-0a58a9feac02
DTSTAMP:20251216T154516Z
SUMMARY:Varsity Girls Basketball Tournament
LOCATION:TBD
URL;VALUE=URI:https://www.dg58.org/he/calendar/8034336/varsity-girls-basket
 ball-tournament
DTSTART:20251117T221500Z
DTEND:20251117T231500Z
END:VEVENT
END:VCALENDAR
