BEGIN:VCALENDAR
VERSION:2.0
PRODID:SchoolNow
CALSCALE:GREGORIAN
BEGIN:VEVENT
UID:5d2903b4-253c-11f0-a393-0a58a9feac02
DTSTAMP:20251216T154516Z
SUMMARY:Boys Basketball Game
LOCATION:Competition Gym
URL;VALUE=URI:https://www.dg58.org/he/calendar/8034335/boys-basketball-game
DTSTART:20260108T221500Z
DTEND:20260109T001500Z
END:VEVENT
END:VCALENDAR
