BEGIN:VCALENDAR
VERSION:2.0
PRODID:SchoolNow
CALSCALE:GREGORIAN
BEGIN:VEVENT
UID:5d290102-253c-11f0-8fa2-0a58a9feac02
DTSTAMP:20251216T154516Z
SUMMARY:Girls Basketball Game @ Westmont
LOCATION:Westmont
URL;VALUE=URI:https://www.dg58.org/he/calendar/8034332/girls-basketball-gam
 e-westmont
DTSTART:20251106T221500Z
DTEND:20251107T001500Z
END:VEVENT
END:VCALENDAR
