BEGIN:VCALENDAR
VERSION:2.0
PRODID:SchoolNow
CALSCALE:GREGORIAN
BEGIN:VEVENT
UID:5d290026-253c-11f0-b519-0a58a9feac02
DTSTAMP:20251216T154516Z
SUMMARY:Scholastic Bowl Match
LOCATION:Gower
URL;VALUE=URI:https://www.dg58.org/he/calendar/8034331/scholastic-bowl-matc
 h
DTSTART:20260324T211500Z
DTEND:20260324T223000Z
END:VEVENT
END:VCALENDAR
