BEGIN:VCALENDAR
VERSION:2.0
PRODID:SchoolNow
CALSCALE:GREGORIAN
BEGIN:VEVENT
UID:5d28ff40-253c-11f0-80e1-0a58a9feac02
DTSTAMP:20251216T154516Z
SUMMARY:Chess Conferene Tournament
LOCATION:Cass
URL;VALUE=URI:https://www.dg58.org/he/calendar/8034330/chess-conferene-tour
 nament
DTSTART:20260221T140000Z
DTEND:20260221T190000Z
END:VEVENT
END:VCALENDAR
