BEGIN:VCALENDAR
VERSION:2.0
PRODID:SchoolNow
CALSCALE:GREGORIAN
BEGIN:VEVENT
UID:5d28fe3c-253c-11f0-81e9-0a58a9feac02
DTSTAMP:20251216T154516Z
SUMMARY:Conference Track and Field Meet
LOCATION:TBD
URL;VALUE=URI:https://www.dg58.org/he/calendar/8034329/conference-track-and
 -field-meet
DTSTART;VALUE=DATE:20260505
DTEND;VALUE=DATE:20260506
END:VEVENT
END:VCALENDAR
