BEGIN:VCALENDAR
VERSION:2.0
PRODID:SchoolNow
CALSCALE:GREGORIAN
BEGIN:VEVENT
UID:5d28fd24-253c-11f0-b93e-0a58a9feac02
DTSTAMP:20251216T154516Z
SUMMARY:Soccer Game
LOCATION:Eisenhower
URL;VALUE=URI:https://www.dg58.org/he/calendar/8034328/soccer-game
DTSTART:20260409T211500Z
DTEND:20260409T231500Z
END:VEVENT
END:VCALENDAR
