BEGIN:VCALENDAR
VERSION:2.0
PRODID:SchoolNow
CALSCALE:GREGORIAN
BEGIN:VEVENT
UID:5d28fc3e-253c-11f0-be7e-0a58a9feac02
DTSTAMP:20251216T154516Z
SUMMARY:Boys Volleyball Game
LOCATION:Westmont
URL;VALUE=URI:https://www.dg58.org/he/calendar/8034327/boys-volleyball-game
DTSTART:20260416T211500Z
DTEND:20260416T221500Z
END:VEVENT
END:VCALENDAR
