BEGIN:VCALENDAR
VERSION:2.0
PRODID:SchoolNow
CALSCALE:GREGORIAN
BEGIN:VEVENT
UID:5d28fb3a-253c-11f0-931d-0a58a9feac02
DTSTAMP:20251216T154516Z
SUMMARY:Cross Country Meet
LOCATION:Burr Ridge
URL;VALUE=URI:https://www.dg58.org/he/calendar/8034326/cross-country-meet
DTSTART:20250925T211500Z
DTEND:20250925T231500Z
END:VEVENT
END:VCALENDAR
