BEGIN:VCALENDAR
VERSION:2.0
PRODID:SchoolNow
CALSCALE:GREGORIAN
BEGIN:VEVENT
UID:5d28f928-253c-11f0-85e3-0a58a9feac02
DTSTAMP:20251216T154516Z
SUMMARY:Girls Basketball Game
LOCATION:Lisle
URL;VALUE=URI:https://www.dg58.org/he/calendar/8034324/girls-basketball-gam
 e
DTSTART:20251028T211500Z
DTEND:20251028T231500Z
END:VEVENT
END:VCALENDAR
