BEGIN:VCALENDAR
VERSION:2.0
PRODID:SchoolNow
CALSCALE:GREGORIAN
BEGIN:VEVENT
UID:5d28eec4-253c-11f0-bdd3-0a58a9feac02
DTSTAMP:20251216T154516Z
SUMMARY:Chess Match
LOCATION:Eisenhower
URL;VALUE=URI:https://www.dg58.org/he/calendar/8034313/chess-match
DTSTART:20260205T221500Z
DTEND:20260205T233000Z
END:VEVENT
END:VCALENDAR
