BEGIN:VCALENDAR
VERSION:2.0
PRODID:SchoolNow
CALSCALE:GREGORIAN
BEGIN:VEVENT
UID:5d28edde-253c-11f0-a0e2-0a58a9feac02
DTSTAMP:20251216T154516Z
SUMMARY:Cross Country Meet
LOCATION:Lakeview
URL;VALUE=URI:https://www.dg58.org/he/calendar/8034312/cross-country-meet
DTSTART:20250904T211500Z
DTEND:20250904T231500Z
END:VEVENT
END:VCALENDAR
