BEGIN:VCALENDAR
VERSION:2.0
PRODID:SchoolNow
CALSCALE:GREGORIAN
BEGIN:VEVENT
UID:5d28eb04-253c-11f0-8af4-0a58a9feac02
DTSTAMP:20251216T154516Z
SUMMARY:Soccer Game
LOCATION:Home (Field)
URL;VALUE=URI:https://www.dg58.org/he/calendar/8034309/soccer-game
DTSTART:20260421T211500Z
DTEND:20260421T231500Z
END:VEVENT
END:VCALENDAR
