BEGIN:VCALENDAR
VERSION:2.0
PRODID:SchoolNow
CALSCALE:GREGORIAN
BEGIN:VEVENT
UID:5d28e820-253c-11f0-aa2a-0a58a9feac02
DTSTAMP:20251216T154516Z
SUMMARY:Girls Soccer Tournament
LOCATION:TBD
URL;VALUE=URI:https://www.dg58.org/he/calendar/8034307/girls-soccer-tournam
 ent
DTSTART:20260512T211500Z
DTEND:20260512T223000Z
END:VEVENT
END:VCALENDAR
