BEGIN:VCALENDAR
VERSION:2.0
PRODID:SchoolNow
CALSCALE:GREGORIAN
BEGIN:VEVENT
UID:5d28e636-253c-11f0-9ace-0a58a9feac02
DTSTAMP:20251216T154516Z
SUMMARY:Boys Basketball Game
LOCATION:Home (Competition Gym)
URL;VALUE=URI:https://www.dg58.org/he/calendar/8034306/boys-basketball-game
DTSTART:20260109T221500Z
DTEND:20260110T001500Z
END:VEVENT
END:VCALENDAR
