BEGIN:VCALENDAR
VERSION:2.0
PRODID:SchoolNow
CALSCALE:GREGORIAN
BEGIN:VEVENT
UID:5d28e0e6-253c-11f0-ac2b-0a58a9feac02
DTSTAMP:20251216T154516Z
SUMMARY:Varisty Boys BasketballTournament
LOCATION:TBD
URL;VALUE=URI:https://www.dg58.org/he/calendar/8034305/varisty-boys-basketb
 alltournament
DTSTART:20260120T221500Z
DTEND:20260120T231500Z
END:VEVENT
END:VCALENDAR
