BEGIN:VCALENDAR
VERSION:2.0
PRODID:SchoolNow
CALSCALE:GREGORIAN
BEGIN:VEVENT
UID:c743a760-09bf-11f0-b73e-0a58a9feac02
DTSTAMP:20251216T154516Z
SUMMARY:Spring Break
URL;VALUE=URI:https://www.dg58.org/he/calendar/7772173/spring-break
DTSTART;VALUE=DATE:20260330
DTEND;VALUE=DATE:20260404
END:VEVENT
END:VCALENDAR
