BEGIN:VCALENDAR
VERSION:2.0
PRODID:SchoolNow
CALSCALE:GREGORIAN
BEGIN:VEVENT
UID:c743a562-09bf-11f0-9282-0a58a9feac02
DTSTAMP:20251216T154516Z
SUMMARY:No School - President's Day
URL;VALUE=URI:https://www.dg58.org/he/calendar/7772172/no-school-presidents
 -day
DTSTART;VALUE=DATE:20260216
DTEND;VALUE=DATE:20260217
END:VEVENT
END:VCALENDAR
