BEGIN:VCALENDAR
VERSION:2.0
PRODID:SchoolNow
CALSCALE:GREGORIAN
BEGIN:VEVENT
UID:c743a472-09bf-11f0-beb7-0a58a9feac02
DTSTAMP:20251216T154516Z
SUMMARY:No School - Martin Luher King Jr.'s Birthday
URL;VALUE=URI:https://www.dg58.org/he/calendar/7772171/no-school-martin-luh
 er-king-jr-s-birthday
DTSTART;VALUE=DATE:20260119
DTEND;VALUE=DATE:20260120
END:VEVENT
END:VCALENDAR
