BEGIN:VCALENDAR
VERSION:2.0
PRODID:SchoolNow
CALSCALE:GREGORIAN
BEGIN:VEVENT
UID:c743a378-09bf-11f0-bb7f-0a58a9feac02
DTSTAMP:20251216T154516Z
SUMMARY:Classes Resume
URL;VALUE=URI:https://www.dg58.org/he/calendar/7772170/classes-resume
DTSTART;VALUE=DATE:20260105
DTEND;VALUE=DATE:20260106
END:VEVENT
END:VCALENDAR
