BEGIN:VCALENDAR
VERSION:2.0
PRODID:SchoolNow
CALSCALE:GREGORIAN
BEGIN:VEVENT
UID:c743a26a-09bf-11f0-8634-0a58a9feac02
DTSTAMP:20251216T154516Z
SUMMARY:No School - Winter Break
URL;VALUE=URI:https://www.dg58.org/he/calendar/7772169/no-school-winter-bre
 ak
DTSTART;VALUE=DATE:20251222
DTEND;VALUE=DATE:20260103
END:VEVENT
END:VCALENDAR
