BEGIN:VCALENDAR
VERSION:2.0
PRODID:SchoolNow
CALSCALE:GREGORIAN
BEGIN:VEVENT
UID:c7439e5a-09bf-11f0-8c44-0a58a9feac02
DTSTAMP:20251216T154516Z
SUMMARY:No School- Columbus Day
URL;VALUE=URI:https://www.dg58.org/he/calendar/7772167/no-school-columbus-d
 ay
DTSTART;VALUE=DATE:20251013
DTEND;VALUE=DATE:20251014
END:VEVENT
END:VCALENDAR
