BEGIN:VCALENDAR
VERSION:2.0
PRODID:SchoolNow
CALSCALE:GREGORIAN
BEGIN:VEVENT
UID:c47ba7fe-f3d4-11ef-8e25-0e4403062db3
DTSTAMP:20251216T154516Z
SUMMARY:First Day of School!
URL;VALUE=URI:https://www.dg58.org/he/calendar/7549454/first-day-of-school
DTSTART;VALUE=DATE:20250902
DTEND;VALUE=DATE:20250903
END:VEVENT
END:VCALENDAR
