BEGIN:VCALENDAR
VERSION:2.0
PRODID:SchoolNow
CALSCALE:GREGORIAN
BEGIN:VEVENT
UID:3cccfab4-d9fd-11f0-a174-0affcb31d49b
DTSTAMP:20251216T154512Z
SUMMARY:Kdg. MAP Math Testing
URL;VALUE=URI:https://www.dg58.org/es/calendar/8824217/kdg-map-math-testing
DTSTART:20260114T182500Z
DTEND:20260114T195500Z
END:VEVENT
END:VCALENDAR
