BEGIN:VCALENDAR
VERSION:2.0
PRODID:SchoolNow
CALSCALE:GREGORIAN
BEGIN:VEVENT
UID:3cccf9a6-d9fd-11f0-83eb-0affcb31d49b
DTSTAMP:20251216T154512Z
SUMMARY:3rd - 6th MAP Math Testing
URL;VALUE=URI:https://www.dg58.org/es/calendar/8824216/3rd-6th-map-math-tes
 ting
DTSTART:20260113T161500Z
DTEND:20260113T171500Z
END:VEVENT
END:VCALENDAR
