BEGIN:VCALENDAR
VERSION:2.0
PRODID:SchoolNow
CALSCALE:GREGORIAN
BEGIN:VEVENT
UID:3cccf85c-d9fd-11f0-a5fb-0affcb31d49b
DTSTAMP:20251216T154512Z
SUMMARY:K\, 1\, 2\, 3dual\, 4\, 5 MAP ELA
URL;VALUE=URI:https://www.dg58.org/es/calendar/8824215/k-1-2-3dual-4-5-map-
 ela
DTSTART:20260114T143000Z
DTEND:20260114T153000Z
END:VEVENT
END:VCALENDAR
