BEGIN:VCALENDAR
VERSION:2.0
PRODID:SchoolNow
CALSCALE:GREGORIAN
BEGIN:VEVENT
UID:3cccf708-d9fd-11f0-93db-0affcb31d49b
DTSTAMP:20251216T154512Z
SUMMARY:Dual 2nd\, 4/5 MAP SLA Test
URL;VALUE=URI:https://www.dg58.org/es/calendar/8824214/dual-2nd-4-5-map-sla
 -test
DTSTART:20260116T143000Z
DTEND:20260116T153000Z
END:VEVENT
END:VCALENDAR
