BEGIN:VCALENDAR
VERSION:2.0
PRODID:SchoolNow
CALSCALE:GREGORIAN
BEGIN:VEVENT
UID:3cccf5d2-d9fd-11f0-bc6b-0affcb31d49b
DTSTAMP:20251216T154512Z
SUMMARY:K-2nd MAP Math Testing
URL;VALUE=URI:https://www.dg58.org/es/calendar/8824213/k-2nd-map-math-testi
 ng
DTSTART:20260113T143000Z
DTEND:20260113T153000Z
END:VEVENT
END:VCALENDAR
